BEGIN:VCALENDAR
VERSION:2.0
PRODID:-//LoonaDance - ECPv6.15.11//NONSGML v1.0//EN
CALSCALE:GREGORIAN
METHOD:PUBLISH
X-WR-CALNAME:LoonaDance
X-ORIGINAL-URL:https://loonadance.sk
X-WR-CALDESC:Udalosti pre LoonaDance
REFRESH-INTERVAL;VALUE=DURATION:PT1H
X-Robots-Tag:noindex
X-PUBLISHED-TTL:PT1H
BEGIN:VTIMEZONE
TZID:Europe/Bratislava
BEGIN:DAYLIGHT
TZOFFSETFROM:+0100
TZOFFSETTO:+0200
TZNAME:CEST
DTSTART:20250330T010000
END:DAYLIGHT
BEGIN:STANDARD
TZOFFSETFROM:+0200
TZOFFSETTO:+0100
TZNAME:CET
DTSTART:20251026T010000
END:STANDARD
BEGIN:DAYLIGHT
TZOFFSETFROM:+0100
TZOFFSETTO:+0200
TZNAME:CEST
DTSTART:20260329T010000
END:DAYLIGHT
BEGIN:STANDARD
TZOFFSETFROM:+0200
TZOFFSETTO:+0100
TZNAME:CET
DTSTART:20261025T010000
END:STANDARD
BEGIN:DAYLIGHT
TZOFFSETFROM:+0100
TZOFFSETTO:+0200
TZNAME:CEST
DTSTART:20270328T010000
END:DAYLIGHT
BEGIN:STANDARD
TZOFFSETFROM:+0200
TZOFFSETTO:+0100
TZNAME:CET
DTSTART:20271031T010000
END:STANDARD
END:VTIMEZONE
BEGIN:VEVENT
DTSTART;VALUE=DATE:20260425
DTEND;VALUE=DATE:20260426
DTSTAMP:20260425T161354
CREATED:20181217T104507Z
LAST-MODIFIED:20260414T132206Z
UID:75-1777075200-1777161599@loonadance.sk
SUMMARY:LOONA DANCE - tanečná metóda pre ženy
DESCRIPTION:[vc_row][vc_column]\n	\n		\n\n\n			\n	\n\n[/vc_column][/vc_row][vc_row][vc_column width=“1/4″ text_align=“center“]Miesto konania:[vc_column_text css=““ text_style=“leader-text“]Aromajoga Studio\nVajanského 35\n080 01 Prešov[/vc_column_text][/vc_column][vc_column width=“1/4″ text_align=“center“]Termín:[vc_column_text css=““ text_style=“leader-text“]25.04.2026[/vc_column_text][/vc_column][vc_column width=“1/4″ text_align=“center“]Čas stretnutia:[vc_column_text css=““ text_style=“leader-text“]17.00 – 19.00 hod.[/vc_column_text][/vc_column][vc_column width=“1/4″ text_align=“center“]\n		Registrácia\n		Registrácia\n							[/vc_column][/vc_row][vc_row padding_top_multiplier=“2x“ padding_bottom_multiplier=“3x“][vc_column width=“1/3″][/vc_column][vc_column width=“2/3″ rc_bg_type=“color“ rc_bg_color=“#fef0e8″][vc_row_inner padding_top_multiplier=“2x“ padding_bottom_multiplier=“1x“][vc_column_inner grve_css=“{„desktop„:{„margin-left„:„-20%„\,„padding-left„:„0„\,„class„:„grve-wpb-1612860368069„}\,„mobile_landscape„:{„margin-left„:„0„\,„padding-left„:„40„}}“]\nPretancuj sa k svojmu ženskému zdraviu a harmónii v telesnej\, emočnej aj energetickej oblasti:\n[/vc_column_inner][/vc_row_inner][vc_row_inner padding_top_multiplier=“1x“ rc_margin_bottom=“0″][vc_column_inner width=“1/2″ grve_css=“{„desktop„:{„margin-left„:„-20%„\,„padding-left„:„0„\,„class„:„grve-wpb-1612860368069„}\,„mobile_landscape„:{„margin-left„:„0„\,„padding-left„:„40„}}“][vc_column_text] \n\nuvoľni a zregeneruj sa\noživ a ozdrav svoju panvu\nspoznaj a spoj sa s telom\n\n[/vc_column_text][/vc_column_inner][vc_column_inner width=“1/2″][vc_column_text] \n\nnapoj sa na vlastnú silu\notvor sa radosti a šťastiu\nzharmonizuj svoje vzťahy\n\n[/vc_column_text][/vc_column_inner][/vc_row_inner][vc_row_inner padding_bottom_multiplier=“2x“][vc_column_inner grve_css=“{„desktop„:{„margin-left„:„-20%„\,„padding-top„:„0„\,„padding-left„:„0„\,„class„:„grve-wpb-1667764102317„}\,„mobile_landscape„:{„margin-left„:„0„\,„padding-left„:„40„}}“]\nOtvor srdce sebe samej a prebuď sebalásku – sebavedomím\, sebadôverou a sebaúctou. Začni najrýchlejšou formou sebapoznania – jednoduchým tancom panvy.\n\n[/vc_column_inner][/vc_row_inner][/vc_column][/vc_row][vc_row padding_top_multiplier=“2x“ columns_gap=“60″][vc_column][vc_column_text]Pozývam ťa na jedinečný tanečný večer\, ktorý je cielene zameraný na postupný rozkvet tvojho ženstva a na jeho ozdravenie. Tento večer vychádza z  tanečného konceptu LOONA DANCE\, ktorý je ojedinelý svojho druhu.[/vc_column_text][vc_row_inner][vc_column_inner width=“1/2″][vc_column_text]LOONA DANCE alebo tiež tanec maternice rozvíja zdravé ženské kvality. Je akýmsi mono pohybom. Jeho opakovaním sa uvoľníš a silne prepojíš s maternicou. Využijeme aj zvuk\, spev\, kresbu\, vizualizáciu a dych.[/vc_column_text][/vc_column_inner][vc_column_inner width=“1/2″][vc_column_text]Program je určený ženám bez rozdielu veku\, je zameraný komplexne na posilňovanie panvy a panvového dna. Nepredpokladá sa skúsenosť s tancom. Lekcie sú vhodné pre ženy v akomkoľvek veku aj začiatočníčky.[/vc_column_text][/vc_column_inner][/vc_row_inner][/vc_column][/vc_row][vc_row padding_top_multiplier=“2x“ columns_gap=“60″][vc_column width=“1/2″]\n	\n		\n\n\n			\n	\n\n[/vc_column][vc_column width=“1/2″ vertical_content_position=“middle“][vc_column_text]Tanec maternice a cviky môžu pri pravidelnom cvičení a tanci zmierniť až odstrániť: \n• menštruačné bolesti\, nepravidelnosť menštruácie\, gynekologické ťažkosti\n• problémy s počatím\, v tehotenstve a pri pôrode\n• bolesti bedrovej oblasti\, bedrových kĺbov\n• pomáha k intenzívnejšiemu prežívaniu pohlavného styku a zlepšeniu sexuálneho života[/vc_column_text][/vc_column][/vc_row][vc_row padding_top_multiplier=“2x“ columns_gap=“60″][vc_column][vc_column_text]Stretnutie pozostáva z dvoj častí: edukačnej a tanečno-pohybovej \nNaučíme sa\, ako sa starať o svoje ženské zdravie komplexným spôsobom:\n– pravidelnou očistou tela\n– životosprávou – strava\, pitný režim\, pohyb\, kúpele\, odpočinok. \nPri tanci sa zameriame sa na našu najdôležitejšiu ženskú časť – oblasť našej panvy a bokov – oživíme si ju\, precvičíme\, rozhýbeme\, s láskou sa s ňou skontaktujeme. Prispejeme tak k jej čisteniu\, harmonizácii a liečeniu. \nBudeme tancovať v štýle Orientu a Afriky\, Havaja\, pravohemisférového tanca a iné. Dozvieš sa základné informácie o panvovom dne\, o tvojej cyklickosti a premenlivosti\, prepojíš sa s maternicou aj skrze zvuk\, kresbu\, vizualizáciu alebo dych. \nPozornosť budeme venovať aj tvojmu panvovému dnu\, ktoré je neoddeliteľnou súčasťou tzv. vnútornej ženy v tebe\, relaxačnej meditácii a jednoduchému vzájomnému ženskému zdieľaniu.[/vc_column_text][/vc_column][/vc_row][vc_row height_ratio=“60″ rc_bg_type=“image“ rc_bg_image=“6699″ rc_bg_image_type=“fixed“][vc_column][/vc_column][/vc_row][vc_row padding_top_multiplier=“2x“ columns_gap=“60″][vc_column width=“1/2″][vc_column_text]A prečo tanec?\n\nTanec je pre ženu jednou z činností\, ktorá nás najrýchlejšie spája s tým\, čo robí ženu ženou. Navyše je to veľmi príjemné. \nJe to jednoduchý a nenásilný pohyb\, pri ktorom sa spájame s naším telom\, emóciami\, upokojujeme myseľ a tieto naše tri dôležité časti harmonicky prepájame do jedného celku. \nVedie nás to k veľkému uvoľneniu a relaxu\, k vnútornej radosti a pocitu šťastia a tiež k spojeniu sa so sebou a našou múdrosťou. Stávame sa šťastnejšími\, spokojnejšími a sebavedomejšími ženami.[/vc_column_text][/vc_column][vc_column width=“1/2″][vc_column_text css=““]LOONA DANCE – tanečná meditácia pre ženy – je priamo zameraný na potreby a rozvoj ženskej časti v nás a zároveň na jej harmonické prepojenie s našou mužskou časťou. \nSo sebou si prines: ľahké oblečenie na tanec a pohyb (dlhé šaty alebo sukňa je vítaná)\, ponožky (budeme naboso)\, šatku na oči\, bedrovú šatku s peniažkami (iba ak máš svoju)\, fľašu s vodou\, karimatku/deku na sedenie. \nPredošlé tanečné skúsenosti nie sú potrebné! Pre ženu každého veku![/vc_column_text][/vc_column][/vc_row][vc_row padding_top_multiplier=“2x“ padding_bottom_multiplier=“3x“][vc_column width=“1/3″][/vc_column][vc_column width=“2/3″ rc_bg_type=“color“ rc_bg_color=“#fef0e8″][vc_row_inner padding_top_multiplier=“2x“ padding_bottom_multiplier=“1x“][vc_column_inner grve_css=“{„desktop„:{„margin-left„:„-20%„\,„padding-left„:„0„\,„class„:„grve-wpb-1612860368069„}\,„mobile_landscape„:{„margin-left„:„0„\,„padding-left„:„40„}}“]Máš v sebe múdrosť\, ktorá sa vyvíjala milióny rokov.\nTanečníčka v tebe k nej má prístup a môže ťa po ceste viesť …\n[/vc_column_inner][/vc_row_inner][/vc_column][/vc_row][vc_row padding_top_multiplier=“2x“ padding_bottom_multiplier=“2x“ rc_bg_type=“color“ columns_gap=“60″][vc_column rc_bg_type=“color“ grve_css=“{„desktop„:{„padding-top„:„10%„\,„padding-right„:„10%„\,„padding-bottom„:„10%„\,„padding-left„:„10%„\,„class„:„grve-wpb-1650921450928„}}“ rc_bg_color=“#fef0e8″]Detaily podujatia:[vc_row_inner][vc_column_inner width=“1/3″]Kedy[vc_column_text css=““] \nsobota\, 25.04.2026\nod 17:00 do 19:00 hod. \n[/vc_column_text][/vc_column_inner][vc_column_inner width=“1/3″]Kde[vc_column_text css=““] \nAromajoga Studio\nVajanského 35\n080 01 Prešov \n[/vc_column_text][/vc_column_inner][vc_column_inner width=“1/3″]Cena[vc_column_text css=““] \n20 € \n[/vc_column_text][/vc_column_inner][/vc_row_inner][/vc_column][/vc_row][vc_row padding_top_multiplier=“3x“ section_id=“registracia“][vc_column text_align=“center“ grve_css=“{„desktop„:{„padding-right„:„5%„\,„padding-left„:„5%„\,„class„:„grve-wpb-1650921927514„}}“][vc_column_text text_style=“leader-text“]Zabezpeč si svoje miesto a prihlás sa vyplnením Registračného formulára. Do predmetu správy uveď\, prosím\, názov akcie.[/vc_column_text][/vc_column][/vc_row][vc_row padding_top_multiplier=“2x“ padding_bottom_multiplier=“3x“ rc_bg_type=“gradient“ rc_bg_gradient_color_1=“#ffffff“ rc_bg_gradient_color_2=“rgba(254\,240\,232\,0.3)“ rc_bg_gradient_direction=“180″ section_id=“registracia“][vc_column width=“1/6″][/vc_column][vc_column width=“2/3″]Registrácia\n\n  \n\n\n\n\n\n \n\n\n\n\nSúhlasím so spracovaním osobných údajov pre webovú stránku Loona Dance.\nSúhlasím so všeobecnými obchodnými podmienkami.\n\n\n\n\n\n[/vc_column][vc_column width=“1/6″][/vc_column][/vc_row][vc_row padding_top_multiplier=“3x“ padding_bottom_multiplier=“3x“][vc_column width=“1/6″][/vc_column][vc_column width=“1/3″]\n	\n		\n\n\n			\n	\n\n[/vc_column][vc_column width=“1/3″ vertical_content_position=“middle“]Teším sa na Vás\,Jana Kečkéšová[vc_column_text]akreditovaná lektorka LOONA DANCE®[/vc_column_text][/vc_column][vc_column width=“1/6″][/vc_column][/vc_row]
URL:https://loonadance.sk/event/tanecna-metoda-pre-zeny/
ATTACH;FMTTYPE=image/jpeg:https://loonadance.sk/wp-content/uploads/2018/12/akcie-presov-1.jpg
ORGANIZER;CN="Jana Ke%C4%8Dk%C3%A9%C5%A1ov%C3%A1":MAILTO:info@loonadance.sk
END:VEVENT
END:VCALENDAR